BEGIN:VCALENDAR
VERSION:2.0
PRODID:-//Washington Sea Grant - ECPv4.9.13//NONSGML v1.0//EN
CALSCALE:GREGORIAN
METHOD:PUBLISH
X-WR-CALNAME:Washington Sea Grant
X-ORIGINAL-URL:https://wsg.washington.edu
X-WR-CALDESC:Events for Washington Sea Grant
BEGIN:VTIMEZONE
TZID:America/Los_Angeles
BEGIN:DAYLIGHT
TZOFFSETFROM:-0800
TZOFFSETTO:-0700
TZNAME:PDT
DTSTART:20150308T100000
END:DAYLIGHT
BEGIN:STANDARD
TZOFFSETFROM:-0700
TZOFFSETTO:-0800
TZNAME:PST
DTSTART:20151101T090000
END:STANDARD
END:VTIMEZONE
BEGIN:VEVENT
DTSTART;TZID=America/Los_Angeles:20150627T110000
DTEND;TZID=America/Los_Angeles:20150627T153000
DTSTAMP:20260422T002641
CREATED:20150620T072613Z
LAST-MODIFIED:20150620T072757Z
UID:16143-1435402800-1435419000@wsg.washington.edu
SUMMARY:2nd Annual Get Outdoors Expo
DESCRIPTION:Get Outdoors — Adventure Awaits! \nThe second annual “Get Outdoors – Adventure Awaits” Expo will feature games\, giveaways\, outdoor gear demonstrations\, mascots\, live music and food vendors. Includes educational displays from Washington Sea Grant experts and other natural resource agencies\, outdoor organizations\, gear companies and more. The Expo will kick off at 11:00am with a short program from elected officials\, outdoor leaders and our sponsors. It’s fun\, family-friendly and free. \nWhen: Saturday\, June 27\, 2015\, 11:00 a.m.–3:30 p.m.\nWhere: State Capitol Campus in Olympia —  on the oval lawn in front of the Legislative Building \n
URL:https://wsg.washington.edu/event/2nd-annual-get-outdoors-expo/
LOCATION:State Capitol campus
END:VEVENT
END:VCALENDAR