BEGIN:VCALENDAR
VERSION:2.0
PRODID:-//Washington Sea Grant - ECPv4.9.13//NONSGML v1.0//EN
CALSCALE:GREGORIAN
METHOD:PUBLISH
X-WR-CALNAME:Washington Sea Grant
X-ORIGINAL-URL:https://wsg.washington.edu
X-WR-CALDESC:Events for Washington Sea Grant
BEGIN:VTIMEZONE
TZID:America/Los_Angeles
BEGIN:DAYLIGHT
TZOFFSETFROM:-0800
TZOFFSETTO:-0700
TZNAME:PDT
DTSTART:20150308T100000
END:DAYLIGHT
BEGIN:STANDARD
TZOFFSETFROM:-0700
TZOFFSETTO:-0800
TZNAME:PST
DTSTART:20151101T090000
END:STANDARD
END:VTIMEZONE
BEGIN:VEVENT
DTSTART;TZID=America/Los_Angeles:20150617T113000
DTEND;TZID=America/Los_Angeles:20150617T133000
DTSTAMP:20260422T021146
CREATED:20150618T004216Z
LAST-MODIFIED:20150618T004216Z
UID:16096-1434540600-1434547800@wsg.washington.edu
SUMMARY:Beach Walk in Seabeck\, Washington
DESCRIPTION:Explore and learn about low tide creatures with experts  Bob McBride\, Renee Johnson\, and WSG’s Marine Water Quality Specialist Jeff Adams. \n
URL:https://wsg.washington.edu/event/beach-walk-in-seabeck-washington/
LOCATION:Anderson Landing Preserve\, Seabeck\, WA\, United States
CATEGORIES:Ecosystem Health,Education,Jeff Adams,Local Activities,Marine Life,Ocean Learning,Outreach,Shellfish
ORGANIZER;CN="Jeff%20Adams":MAILTO:jaws@uw.edu
GEO:47.640941;-122.8286049
END:VEVENT
END:VCALENDAR