BEGIN:VCALENDAR
VERSION:2.0
PRODID:-//Washington Sea Grant - ECPv4.9.13//NONSGML v1.0//EN
CALSCALE:GREGORIAN
METHOD:PUBLISH
X-WR-CALNAME:Washington Sea Grant
X-ORIGINAL-URL:https://wsg.washington.edu
X-WR-CALDESC:Events for Washington Sea Grant
BEGIN:VTIMEZONE
TZID:America/Los_Angeles
BEGIN:DAYLIGHT
TZOFFSETFROM:-0800
TZOFFSETTO:-0700
TZNAME:PDT
DTSTART:20150308T100000
END:DAYLIGHT
BEGIN:STANDARD
TZOFFSETFROM:-0700
TZOFFSETTO:-0800
TZNAME:PST
DTSTART:20151101T090000
END:STANDARD
END:VTIMEZONE
BEGIN:VEVENT
DTSTART;TZID=America/Los_Angeles:20150620T110000
DTEND;TZID=America/Los_Angeles:20150620T150000
DTSTAMP:20260422T002024
CREATED:20150605T231328Z
LAST-MODIFIED:20150609T233528Z
UID:15855-1434798000-1434812400@wsg.washington.edu
SUMMARY:Boater's Fair
DESCRIPTION:Join us for the 2015 Boater’s Fair! This year we’ll be celebrating everything boating\, with a day of family fun. Activities will include free rowing lessons\, stand-up paddleboard jousting\, canoe tug-of-war\, hot dogs\, and more! \nWSG’s Aaron Barnett will be at the Fair handing out Pumpout kits and talking about preventing sewage spills and small oil spills.\n  \n
URL:https://wsg.washington.edu/event/boaters-fair/
LOCATION:Eagle Harbor Washington Park\, 280 Madison Ave N\, Bainbridge Island\, WA\, 98110\, United States
CATEGORIES:Aaron Barnett,Outreach
GEO:47.6263099;-122.520497
X-APPLE-STRUCTURED-LOCATION;VALUE=URI;X-ADDRESS=Eagle Harbor Washington Park 280 Madison Ave N Bainbridge Island WA 98110 United States;X-APPLE-RADIUS=500;X-TITLE=280 Madison Ave N:geo:-122.520497,47.6263099
END:VEVENT
END:VCALENDAR