BEGIN:VCALENDAR
VERSION:2.0
PRODID:-//Washington Sea Grant - ECPv4.9.13//NONSGML v1.0//EN
CALSCALE:GREGORIAN
METHOD:PUBLISH
X-WR-CALNAME:Washington Sea Grant
X-ORIGINAL-URL:https://wsg.washington.edu
X-WR-CALDESC:Events for Washington Sea Grant
BEGIN:VTIMEZONE
TZID:America/Los_Angeles
BEGIN:DAYLIGHT
TZOFFSETFROM:-0800
TZOFFSETTO:-0700
TZNAME:PDT
DTSTART:20210314T100000
END:DAYLIGHT
BEGIN:STANDARD
TZOFFSETFROM:-0700
TZOFFSETTO:-0800
TZNAME:PST
DTSTART:20211107T090000
END:STANDARD
END:VTIMEZONE
BEGIN:VEVENT
DTSTART;TZID=America/Los_Angeles:20210526T173000
DTEND;TZID=America/Los_Angeles:20210526T180000
DTSTAMP:20260425T165207
CREATED:20210527T024519Z
LAST-MODIFIED:20210527T024519Z
UID:50385-1622050200-1622052000@wsg.washington.edu
SUMMARY:Coastal Café
DESCRIPTION:Join host Aaron Barnett and guest Dr. Phil Long as they take “A Deep Dive into the Lake Chelan Research Institute”. Lake Chelan has some of the cleanest and clearest water of any lake in North America — providing the Columbia River with a constant source of cold and clear water that is essential for spawning salmon. Dr. Long is the director of the Lake Chelan Research Institute and he will be sharing data and recent findings on Lake Chelan’s hydrology and water quality. This is a joint production of Washington Sea Grant at the College of the Environment\, University of Washington and KPTZ 91.9 FM. Coastal Café explores the latest in marine science with researchers\, policy experts and people who live and work along our coast. To hear other segments\, check out the Coastal Café podcast! \n
URL:https://wsg.washington.edu/event/coastal-cafe-12/
LOCATION:WA\, United States
ORGANIZER;CN="KPTZ":MAILTO:contactus@kptz.org
END:VEVENT
END:VCALENDAR