BEGIN:VCALENDAR
VERSION:2.0
PRODID:-//Washington Sea Grant - ECPv4.9.13//NONSGML v1.0//EN
CALSCALE:GREGORIAN
METHOD:PUBLISH
X-WR-CALNAME:Washington Sea Grant
X-ORIGINAL-URL:https://wsg.washington.edu
X-WR-CALDESC:Events for Washington Sea Grant
BEGIN:VTIMEZONE
TZID:America/Los_Angeles
BEGIN:DAYLIGHT
TZOFFSETFROM:-0800
TZOFFSETTO:-0700
TZNAME:PDT
DTSTART:20240310T100000
END:DAYLIGHT
BEGIN:STANDARD
TZOFFSETFROM:-0700
TZOFFSETTO:-0800
TZNAME:PST
DTSTART:20241103T090000
END:STANDARD
END:VTIMEZONE
BEGIN:VEVENT
DTSTART;TZID=America/Los_Angeles:20240307T113000
DTEND;TZID=America/Los_Angeles:20240307T130000
DTSTAMP:20260419T172917
CREATED:20230217T181646Z
LAST-MODIFIED:20240209T192235Z
UID:55693-1709811000-1709816400@wsg.washington.edu
SUMMARY:Crab Team New Monitor Training: Virtual (Zoom) Species ID
DESCRIPTION:This event is the second training in Crab Team’s New Monitors series of 3 required training sessions for monitors. This session is live & virtual (on Zoom) and will be an introduction to species identification. This training is intended for our new monitors supporting Crab Team monitoring sites \nCrab Team’s annual training series for new monitors is in 3 parts: 2 live\, virtual sessions (Zoom) + 1 in-person session.  \nThis year we are recruiting a limited number of new monitors to add to existing teams in their network of sites monitoring for the invasive European green crab. \nSign me up!\nIf you are interested in getting involved\, please fill out our\n2024 New Monitor Interest Form. If a site near you has availability this season\, we’ll be in touch with an invitation to join us for this year’s training series. \nWe encourage interested community members to read the Get Involved section of our website to find out what our monitors do as Crab Team’s “Boots in the Mud” – no prior experience necessary. \nEvent Logistics: RSVP’ed attendees will receive event specific details via email. \nContact the Crab Team at crabteam@uw.edu if you have any questions. \n
URL:https://wsg.washington.edu/event/crab-team-new-inland-monitor-training-1-of-4-virtual-zoom-orientation/
LOCATION:Zoom\, WA\, United States
CATEGORIES:Green Crab
ATTACH;FMTTYPE=image/png:https://wsg.washington.edu/wordpress/wp-content/uploads/22GreenCrabLogo-e1676657729976.png
ORGANIZER;CN="WSG%20Crab%20Team":MAILTO:crabteam@uw.edu
END:VEVENT
END:VCALENDAR