BEGIN:VCALENDAR
VERSION:2.0
PRODID:-//Washington Sea Grant - ECPv4.9.13//NONSGML v1.0//EN
CALSCALE:GREGORIAN
METHOD:PUBLISH
X-WR-CALNAME:Washington Sea Grant
X-ORIGINAL-URL:https://wsg.washington.edu
X-WR-CALDESC:Events for Washington Sea Grant
BEGIN:VTIMEZONE
TZID:America/Los_Angeles
BEGIN:DAYLIGHT
TZOFFSETFROM:-0800
TZOFFSETTO:-0700
TZNAME:PDT
DTSTART:20200308T100000
END:DAYLIGHT
BEGIN:STANDARD
TZOFFSETFROM:-0700
TZOFFSETTO:-0800
TZNAME:PST
DTSTART:20201101T090000
END:STANDARD
END:VTIMEZONE
BEGIN:VEVENT
DTSTART;TZID=America/Los_Angeles:20201015T120000
DTEND;TZID=America/Los_Angeles:20201015T130000
DTSTAMP:20260424T230528
CREATED:20201015T205734Z
LAST-MODIFIED:20201015T205734Z
UID:48037-1602763200-1602766800@wsg.washington.edu
SUMMARY:Environmental Justice Speaker Series
DESCRIPTION:The School of Marine & Environmental Affairs at the University of Washington is excited to launch their Fall Quarter Environmental Justice Speakers Series. \nThe series this quarter features a variety of speakers all of whom will address unique aspects of environmental justice from their work\, research\, and/or advocacy. Each talk takes place on a Thursday from 12:00-1:00pm PST via Zoom. The speaker will give a 30-40 minute presentation\, followed by time for Q&A with the audience. For more information\, or to RSVP for one or all of the events\, please contact Leah Quinn (leahq@uw.edu). \nSchedule:  \nOctober 15\, Thomas Pool presents The Tonle Sap: Fish\, Hydropower\, and People\nOctober 22\, Sylvia Ewing presents Communication for Good: Centering Equity in the Climate Conversation\nOctober 29\, Sherry Pictou presents Indigenous Feminism and Ecological Governance\nNovember 12\, Whitney Mgbara & Kenzo Esquivel present Building a Community of Anti-racist Environmental Scholarship\nDecember 10\, Sabrina Brennan presents Gender Equity and Public Access: Policy and Advocacy on the California Coast  \n
URL:https://wsg.washington.edu/event/environmental-justice-speaker-series/2020-10-15/
LOCATION:ONLINE\, WA\, United States
CATEGORIES:Coastal and Marine Communities,Education,Research
END:VEVENT
END:VCALENDAR