BEGIN:VCALENDAR
VERSION:2.0
PRODID:-//Washington Sea Grant - ECPv4.9.13//NONSGML v1.0//EN
CALSCALE:GREGORIAN
METHOD:PUBLISH
X-WR-CALNAME:Washington Sea Grant
X-ORIGINAL-URL:https://wsg.washington.edu
X-WR-CALDESC:Events for Washington Sea Grant
BEGIN:VTIMEZONE
TZID:America/Los_Angeles
BEGIN:DAYLIGHT
TZOFFSETFROM:-0800
TZOFFSETTO:-0700
TZNAME:PDT
DTSTART:20150308T100000
END:DAYLIGHT
BEGIN:STANDARD
TZOFFSETFROM:-0700
TZOFFSETTO:-0800
TZNAME:PST
DTSTART:20151101T090000
END:STANDARD
END:VTIMEZONE
BEGIN:VEVENT
DTSTART;VALUE=DATE:20150509
DTEND;VALUE=DATE:20150510
DTSTAMP:20260422T053200
CREATED:20150324T234430Z
LAST-MODIFIED:20150324T234532Z
UID:12620-1431129600-1431215999@wsg.washington.edu
SUMMARY:Hama Hama Oyster Rama
DESCRIPTION:Hama Hama Oyster Rama\nHead on out to Hood Canal for the 4th Hama Hama Oyster Rama to benefit the Hood Canal School Education Foundation. Events include sampling different kinds of oysters and talks on topics ranging from species to seasonality. \nContact the Hama Hama store at 888.877.5844 for further information\, including cost. \n
URL:https://wsg.washington.edu/event/hama-hama-oyster-rama-2/
LOCATION:Hama Hama Farm\, 35846 N. US HWY 101\, Lilliwaup\, WA\, 98555\, United States
CATEGORIES:Outreach,Shellfish,Shellfish
GEO:47.5398727;-123.0406601
X-APPLE-STRUCTURED-LOCATION;VALUE=URI;X-ADDRESS=Hama Hama Farm 35846 N. US HWY 101 Lilliwaup WA 98555 United States;X-APPLE-RADIUS=500;X-TITLE=35846 N. US HWY 101:geo:-123.0406601,47.5398727
END:VEVENT
END:VCALENDAR