BEGIN:VCALENDAR
VERSION:2.0
PRODID:-//Washington Sea Grant - ECPv4.9.13//NONSGML v1.0//EN
CALSCALE:GREGORIAN
METHOD:PUBLISH
X-WR-CALNAME:Washington Sea Grant
X-ORIGINAL-URL:https://wsg.washington.edu
X-WR-CALDESC:Events for Washington Sea Grant
BEGIN:VTIMEZONE
TZID:America/Los_Angeles
BEGIN:DAYLIGHT
TZOFFSETFROM:-0800
TZOFFSETTO:-0700
TZNAME:PDT
DTSTART:20250309T100000
END:DAYLIGHT
BEGIN:STANDARD
TZOFFSETFROM:-0700
TZOFFSETTO:-0800
TZNAME:PST
DTSTART:20251102T090000
END:STANDARD
END:VTIMEZONE
BEGIN:VEVENT
DTSTART;VALUE=DATE:20250920
DTEND;VALUE=DATE:20250921
DTSTAMP:20260422T041204
CREATED:20250903T185114Z
LAST-MODIFIED:20250903T185114Z
UID:63144-1758326400-1758412799@wsg.washington.edu
SUMMARY:International Coastal Cleanup
DESCRIPTION:From Washington CoastSavers: \nJoin coastal communities from around the world in the 2025 International Coastal Cleanup on Saturday\, September 20th to cleanup participating Pacific Coast and Strait of Juan de Fuca beaches. \nRegistration for participating beaches opens about a month before the event. \nLearn more on Washington CoastSavers. \n
URL:https://wsg.washington.edu/event/international-coastal-cleanup-3/
LOCATION:WA\, United States
END:VEVENT
END:VCALENDAR