BEGIN:VCALENDAR
VERSION:2.0
PRODID:-//Washington Sea Grant - ECPv4.9.13//NONSGML v1.0//EN
CALSCALE:GREGORIAN
METHOD:PUBLISH
X-WR-CALNAME:Washington Sea Grant
X-ORIGINAL-URL:https://wsg.washington.edu
X-WR-CALDESC:Events for Washington Sea Grant
BEGIN:VTIMEZONE
TZID:America/Los_Angeles
BEGIN:DAYLIGHT
TZOFFSETFROM:-0800
TZOFFSETTO:-0700
TZNAME:PDT
DTSTART:20200308T100000
END:DAYLIGHT
BEGIN:STANDARD
TZOFFSETFROM:-0700
TZOFFSETTO:-0800
TZNAME:PST
DTSTART:20201101T090000
END:STANDARD
END:VTIMEZONE
BEGIN:VEVENT
DTSTART;TZID=America/Los_Angeles:20200502T095000
DTEND;TZID=America/Los_Angeles:20200502T120000
DTSTAMP:20260424T224851
CREATED:20200210T180029Z
LAST-MODIFIED:20200410T220104Z
UID:43378-1588413000-1588420800@wsg.washington.edu
SUMMARY:CANCELED: Iverson Spit Preserve Walk
DESCRIPTION:Join the Friends of Camano Island Parks for a walk at Iverson Spit. Iverson Spit is accessed from East Camano Drive via Russell Road east to Sunrise road then south to Iverson Beach Road. Follow Iverson Beach Road east down to the beach area and drive north to the end. After a short level mile walk with views of Port Susan Bay\, a beaver activity area\, and the “Hobbit Trail”\, drivers will caravan to Kristoferson Creek Habitat for a short visit. Directions to the next stop at English Boom Historical Park will be handed out at Iverson Spit. The walk at English Boom Historical Park is about a mile in length on a marsh trail along Skagit Bay. Baker view\, interpretive boards and a boardwalk are some of the special features of this historical park. The pace is moderate and the walks take place rain or shine. Walks are cancelled if there is snow or extremely high winds. Walkers are asked to wear clothing appropriate for weather conditions including sturdy shoes or boots. Please no dogs. \n  \nWhen: Saturday\, May 2\, 2020 at 9:50am–12:00pm \nWhere: Iverson Spit\nHobbit Trail\nCamano\, WA 98282 \n
URL:https://wsg.washington.edu/event/iverson-spit-preserve-walk/
LOCATION:Iverson Spit\, Hobbit Trail\, Camano\, WA\, 98282\, United States
CATEGORIES:Local Activities,Our Northwest
ORGANIZER;CN="Friends%20of%20Camano%20Island%20Parks":MAILTO:focip11@gmail.com
END:VEVENT
END:VCALENDAR