BEGIN:VCALENDAR
VERSION:2.0
PRODID:-//Washington Sea Grant - ECPv4.9.13//NONSGML v1.0//EN
CALSCALE:GREGORIAN
METHOD:PUBLISH
X-WR-CALNAME:Washington Sea Grant
X-ORIGINAL-URL:https://wsg.washington.edu
X-WR-CALDESC:Events for Washington Sea Grant
BEGIN:VTIMEZONE
TZID:America/Los_Angeles
BEGIN:DAYLIGHT
TZOFFSETFROM:-0800
TZOFFSETTO:-0700
TZNAME:PDT
DTSTART:20250309T100000
END:DAYLIGHT
BEGIN:STANDARD
TZOFFSETFROM:-0700
TZOFFSETTO:-0800
TZNAME:PST
DTSTART:20251102T090000
END:STANDARD
END:VTIMEZONE
BEGIN:VEVENT
DTSTART;VALUE=DATE:20250919
DTEND;VALUE=DATE:20250920
DTSTAMP:20260422T023746
CREATED:20250903T191941Z
LAST-MODIFIED:20250903T192234Z
UID:63147-1758240000-1758326399@wsg.washington.edu
SUMMARY:Navigating Marine Carbon Dioxide Removal: From Science to Regulation
DESCRIPTION:Marine Carbon Dioxide Removal (mCDR) Law & Policy Symposium flyer \nMarine Carbon Dioxide Removal (mCDR) Law & Policy Symposium \nJoin us for an overview of existing mCDR legal and policy frameworks and what may be needed to facilitate responsible mCDR research and deployment in the Pacific Northwest and beyond. \nDATE \nSeptember 19\, 2025\, 8:00 a.m.- 5:00 p.m. \nLOCATION \nUniversity of Washington CoMotion Idea Lab in Fluke Hall\, 4000 NE Mason Rd\, Seattle\, WA 98195 \nWHO \nThis event is of most interest to scientists\, regulatory and legal experts\, policymakers (tribal\, federal\, state and municipal)\, NGOs and technology developers\, researchers\, coastal constituents and students\, but everyone with an interest in mCDR is welcome. \nREGISTER HERE  \nPlease register your in-person attendance before September 12\, 2025. \nWHAT \nThe Sabin Center for Climate Change Law at Columbia University is hosting a one-day symposium in New York City. The symposium will explore legal and policy issues associated with mCDR activities that aim to increase safe uptake and storage of carbon dioxide in the ocean. \nLEARN MORE  \nmCDR RESOURCES  \nResources to help those less familiar with mCDR engage comfortably in the day’s discussions. \nCAN’T MAKE IT TO NYC FOR THE MAIN EVENT? WE’VE GOT YOU COVERED! \nJoin our Washington Learning Hub in Seattle to watch the NYC presentations together and ask questions of NYC panelists\, connect with local mCDR community members\, and engage in regionally relevant discussions. Attend as much of the NYC programming as you like\, but be sure to arrive by 2 p.m\, when our focus will shift to mCDR activities in the Salish Sea\, kicked off by a hybrid conversation with in-person participants in Victoria\, BC. \nThis event is free thanks to generous support from the National Sea Grant Law Center\, Carbon To Sea\, and Banyu Carbon\, but registration is required. Lunch and refreshments will be provided throughout the day; note that there is no break in the NYC symposium schedule for meals. \nSeattle Schedule \n7:45 a.m. Doors open; coffee/tea and light breakfast buffet \n8:00 a.m. Welcome and introductions \n8:15 a.m. – 2:00 p.m. NYC Symposium panel sessions  (remote; see session descriptions and panelists): \n\n8:15-9:15 a.m. The State of the Science and Social Science on mCDR\n9:30-10:30 a.m. mCDR and Other Ocean Users\n10:45 a.m.-12 p.m. International Governance of mCDR\n12:15-1:45 p.m. U.S. Domestic Law and Policy on mCDR\n\n11:30 a.m.Lunch \n2:15 p.m.Salish Sea Session: Operating in Shared Waters (hybrid) \nThis conversational session between Seattle and Victoria BC participants will consider what it means to conduct ‘safe and responsible’ carbon dioxide removal in the Salish Sea and surrounding waters\, which flow freely across the US-Canada border and have been home to sovereign Tribes and First Nations since Time Immemorial. Panelists will share perspectives and lessons from ongoing efforts\, including Ebb Carbon’s commercial ocean alkalinity enhancement pilot in Port Angeles\, WA\, and Ocean Network Canada’s Solid Carbon New Frontiers research project off the coast of Vancouver Island. \nGUEST EXPERTS \n\nGiulia Belotti\, University of British Columbia\nKyla Westphal\, Ebb Carbon\nTerre Satterfield\, University of British Columbia\nKohen Bauer\, Ocean Networks Canada\nDevin Todd\, Ocean Networks Canada\nMaia Hoeberechts\, Ocean Networks Canada\nModerator: Meg Chadsey\, Washington Sea Grant\n\n4:00 p.m. Rooftop social hour (weather permitting) \nSpecial thanks to UW CoMotion \nCONTACT US \nIf you have questions or difficulties registering\, please contact Meg Chadsey at mchadsey@uw.edu \n
URL:https://wsg.washington.edu/event/navigating-marine-carbon-dioxide-removal-from-science-to-regulation/
LOCATION:CoMotion Idea Lab\, 4000 NE Mason Rd\, Seattle\, WA\, 98195\, United States
END:VEVENT
END:VCALENDAR