BEGIN:VCALENDAR
VERSION:2.0
PRODID:-//Washington Sea Grant - ECPv4.9.13//NONSGML v1.0//EN
CALSCALE:GREGORIAN
METHOD:PUBLISH
X-WR-CALNAME:Washington Sea Grant
X-ORIGINAL-URL:https://wsg.washington.edu
X-WR-CALDESC:Events for Washington Sea Grant
BEGIN:VTIMEZONE
TZID:America/Los_Angeles
BEGIN:DAYLIGHT
TZOFFSETFROM:-0800
TZOFFSETTO:-0700
TZNAME:PDT
DTSTART:20220313T100000
END:DAYLIGHT
BEGIN:STANDARD
TZOFFSETFROM:-0700
TZOFFSETTO:-0800
TZNAME:PST
DTSTART:20221106T090000
END:STANDARD
END:VTIMEZONE
BEGIN:VEVENT
DTSTART;TZID=America/Los_Angeles:20220118T183000
DTEND;TZID=America/Los_Angeles:20220118T200000
DTSTAMP:20260425T145115
CREATED:20220107T004411Z
LAST-MODIFIED:20220107T004411Z
UID:52191-1642530600-1642536000@wsg.washington.edu
SUMMARY:No Impact Docking - Virtual Class
DESCRIPTION:This class is offered via Zoom from 6:30 to 8:00 pm on two consecutive evenings. \n
URL:https://wsg.washington.edu/event/no-impact-docking-virtual-class-2/2022-01-18/
LOCATION:WA\, United States
ORGANIZER;CN="Northwest%20Maritime%20Center":MAILTO:programs@nwmaritime.org
END:VEVENT
END:VCALENDAR