BEGIN:VCALENDAR
VERSION:2.0
PRODID:-//Washington Sea Grant - ECPv4.9.13//NONSGML v1.0//EN
CALSCALE:GREGORIAN
METHOD:PUBLISH
X-WR-CALNAME:Washington Sea Grant
X-ORIGINAL-URL:https://wsg.washington.edu
X-WR-CALDESC:Events for Washington Sea Grant
BEGIN:VTIMEZONE
TZID:America/Los_Angeles
BEGIN:DAYLIGHT
TZOFFSETFROM:-0800
TZOFFSETTO:-0700
TZNAME:PDT
DTSTART:20200308T100000
END:DAYLIGHT
BEGIN:STANDARD
TZOFFSETFROM:-0700
TZOFFSETTO:-0800
TZNAME:PST
DTSTART:20201101T090000
END:STANDARD
END:VTIMEZONE
BEGIN:VEVENT
DTSTART;TZID=America/Los_Angeles:20200307T190000
DTEND;TZID=America/Los_Angeles:20200307T200000
DTSTAMP:20260420T195056
CREATED:20200106T164633Z
LAST-MODIFIED:20200106T164633Z
UID:42603-1583607600-1583611200@wsg.washington.edu
SUMMARY:Pier Into the Night
DESCRIPTION:Join Harbor WildWatch for an underwater journey of Gig Harbor Bay without getting wet (or needing special certification) through the Pier Into the Night experience. While you stay warm and dry on the dock\, our divers use an underwater video camera to live stream exactly what they encounter below the surface. Staff biologists and trained volunteers identify the plants and animals that appear on the 10-ft screen. \n  \nSaturday\, March 7\, 7:00 — 8:00pm \nThis program is FREE; donations are appreciated. \n  \nJerisich Dock \n3215 Harborview Dr \nGig Harbor\, WA 98335 \n
URL:https://wsg.washington.edu/event/pier-into-the-night-5/
LOCATION:Jerisich Dock\, 3215 Harborview Dr\, Gig Harbor\, WA\, 98335\, United States
CATEGORIES:Education,Kid's Day,Local Activities,Marine Life,Ocean Learning,Our Northwest
ORGANIZER;CN="Harbor%20WildWatch%20-%20Carly":MAILTO:carly@harborwildwatch.org
END:VEVENT
END:VCALENDAR