BEGIN:VCALENDAR
VERSION:2.0
PRODID:-//Washington Sea Grant - ECPv4.9.13//NONSGML v1.0//EN
CALSCALE:GREGORIAN
METHOD:PUBLISH
X-WR-CALNAME:Washington Sea Grant
X-ORIGINAL-URL:https://wsg.washington.edu
X-WR-CALDESC:Events for Washington Sea Grant
BEGIN:VTIMEZONE
TZID:America/Los_Angeles
BEGIN:DAYLIGHT
TZOFFSETFROM:-0800
TZOFFSETTO:-0700
TZNAME:PDT
DTSTART:20150308T100000
END:DAYLIGHT
BEGIN:STANDARD
TZOFFSETFROM:-0700
TZOFFSETTO:-0800
TZNAME:PST
DTSTART:20151101T090000
END:STANDARD
END:VTIMEZONE
BEGIN:VEVENT
DTSTART;TZID=America/Los_Angeles:20150827T180000
DTEND;TZID=America/Los_Angeles:20150827T193000
DTSTAMP:20260421T172135
CREATED:20150826T002438Z
LAST-MODIFIED:20150826T002438Z
UID:16701-1440698400-1440703800@wsg.washington.edu
SUMMARY:Rising Sea Levels Seminar in Port Angeles\, WA
DESCRIPTION:Port Townsend faces the possibility of more flooding by 2030 while Port Angeles and Neah Bay are so far keeping pace with sea level rise\, but that could change within the next 85 years\, according to a climate change study that will be discussed at a free seminar this week. \nIan Miller\,  coastal hazards specialist with Washington Sea Grant\, and Cindy Jayne of the North Olympic Development Council\, will discuss the impacts of sea level rising over the next several decades on communities on the North Olympic Peninsula. \nDuring the seminar\, Miller will speak about sea level rise\, ocean acidification\, marine debris\, tsunamis\, beach erosion\, Washington coastal ecology\, coastal sediment transport and geomorphology — the study of the physical features of the surface of the earth and their relation to its geological structures. \n
URL:https://wsg.washington.edu/event/rising-sea-levels-seminar-in-port-angeles-wa/
LOCATION:Dungeness River Audubon Center\, 2151 W. Hendrickson Road\, \, Sequim.\, WA\, 98382
GEO:48.0859198;-123.1463008
X-APPLE-STRUCTURED-LOCATION;VALUE=URI;X-ADDRESS=Dungeness River Audubon Center 2151 W. Hendrickson Road  Sequim. WA 98382;X-APPLE-RADIUS=500;X-TITLE=2151 W. Hendrickson Road\,:geo:-123.1463008,48.0859198
END:VEVENT
END:VCALENDAR