BEGIN:VCALENDAR
VERSION:2.0
PRODID:-//Washington Sea Grant - ECPv4.9.13//NONSGML v1.0//EN
CALSCALE:GREGORIAN
METHOD:PUBLISH
X-WR-CALNAME:Washington Sea Grant
X-ORIGINAL-URL:https://wsg.washington.edu
X-WR-CALDESC:Events for Washington Sea Grant
BEGIN:VTIMEZONE
TZID:America/Los_Angeles
BEGIN:DAYLIGHT
TZOFFSETFROM:-0800
TZOFFSETTO:-0700
TZNAME:PDT
DTSTART:20260308T100000
END:DAYLIGHT
BEGIN:STANDARD
TZOFFSETFROM:-0700
TZOFFSETTO:-0800
TZNAME:PST
DTSTART:20261101T090000
END:STANDARD
END:VTIMEZONE
BEGIN:VEVENT
DTSTART;VALUE=DATE:20260626
DTEND;VALUE=DATE:20260627
DTSTAMP:20260419T211949
CREATED:20260416T191030Z
LAST-MODIFIED:20260417T171633Z
UID:64471-1782432000-1782518399@wsg.washington.edu
SUMMARY:Salish Sea-wide Molt Blitz!
DESCRIPTION:Molt Search is a program by Washington Sea Grant\, with partnership from Washington State University Extension and many local partner organizations. By participating you can help monitor shorelines across Washington for invasive European green crabs and native Dungeness crabs by following a simple protocol: a timed collection of all molts on the shore\, submitted via MyCoast. Find out more at wsg.washington.edu/moltsearch \n \nWhat’s a Molt Blitz? The goal is to create the largest single-day dataset on molts across inland Washington. Can we find new areas of green crabspread? What patterns can we uncover in where juvenile Dungeness crabs are living and growing? To contribute to this effort\, Molt Search on as many local shorelines as you’re able to reach on June 26th. Remember to crush your collection after submitting it to avoid any doublecounts by Searchers coming behind you. \nAlready trained? Stop by any local shoreline on June 26th to complete a Molt Search independently\, contributing to Washington’s largest single-day dataset on molt distribution across the Salish Sea. Or you’re welcome at any of the locations below to get your questions answered by trainers and meet fellow Molt Searchers. \nNeed to get trained or want to participate with others? Trainings are offered throughout the month of June (map will soon be posted below)\, including a Virtual Training on Zoom (date tbd). Shorelines across the region will be activated by local partners on June 26th. Stop by one near you to get trained or mingle with other Molt Searchers. Bring a friend! \nFind an event near you on the Molt Search Event Map that will soon be shared (wsg.washington.edu/moltsearch) \nMolt Search trainers will be on-site 6/26 at several locations to answer all your green crab questions & walk you through Molt Search protocols. \n \n
URL:https://wsg.washington.edu/event/salish-sea-wide-molt-blitz-2026/
LOCATION:WA\, United States
CATEGORIES:Green Crab
ATTACH;FMTTYPE=image/png:https://wsg.washington.edu/wordpress/wp-content/uploads/Screen-Shot-2023-07-26-at-10.31.24-AM.png
ORGANIZER;CN="WSG%20Crab%20Team":MAILTO:crabteam@uw.edu
END:VEVENT
END:VCALENDAR