BEGIN:VCALENDAR
VERSION:2.0
PRODID:-//Washington Sea Grant - ECPv4.9.13//NONSGML v1.0//EN
CALSCALE:GREGORIAN
METHOD:PUBLISH
X-WR-CALNAME:Washington Sea Grant
X-ORIGINAL-URL:https://wsg.washington.edu
X-WR-CALDESC:Events for Washington Sea Grant
BEGIN:VTIMEZONE
TZID:America/Los_Angeles
BEGIN:DAYLIGHT
TZOFFSETFROM:-0800
TZOFFSETTO:-0700
TZNAME:PDT
DTSTART:20150308T100000
END:DAYLIGHT
BEGIN:STANDARD
TZOFFSETFROM:-0700
TZOFFSETTO:-0800
TZNAME:PST
DTSTART:20151101T090000
END:STANDARD
END:VTIMEZONE
BEGIN:VEVENT
DTSTART;TZID=America/Los_Angeles:20150616T180000
DTEND;TZID=America/Los_Angeles:20150616T193000
DTSTAMP:20260422T002645
CREATED:20150609T235134Z
LAST-MODIFIED:20150609T235134Z
UID:15942-1434477600-1434483000@wsg.washington.edu
SUMMARY:Seattle Aquarium: Master Planning Open House
DESCRIPTION:On June 8th the Seattle Aquarium will publish a Draft Master Plan on our website describing our plan to increase the Aquarium’s marine conservation impact and on June 16th we are hosting Open House to gather public feedback on the Draft Master Plan. \n
URL:https://wsg.washington.edu/event/seattle-aquarium-master-planning-open-house/
LOCATION:Seattle Aquarium\, 1483 Alaskan Way\, Pier 59\, Seattle\, WA\, 98101\, United States
ORGANIZER;CN="Seattle%20Aquarium":MAILTO:contactus@seattleaquarium.org
GEO:47.6073845;-122.3430511
X-APPLE-STRUCTURED-LOCATION;VALUE=URI;X-ADDRESS=Seattle Aquarium 1483 Alaskan Way Pier 59 Seattle WA 98101 United States;X-APPLE-RADIUS=500;X-TITLE=1483 Alaskan Way\, Pier 59:geo:-122.3430511,47.6073845
END:VEVENT
END:VCALENDAR