BEGIN:VCALENDAR
VERSION:2.0
PRODID:-//Washington Sea Grant - ECPv4.9.13//NONSGML v1.0//EN
CALSCALE:GREGORIAN
METHOD:PUBLISH
X-WR-CALNAME:Washington Sea Grant
X-ORIGINAL-URL:https://wsg.washington.edu
X-WR-CALDESC:Events for Washington Sea Grant
BEGIN:VTIMEZONE
TZID:America/Los_Angeles
BEGIN:DAYLIGHT
TZOFFSETFROM:-0800
TZOFFSETTO:-0700
TZNAME:PDT
DTSTART:20150308T100000
END:DAYLIGHT
BEGIN:STANDARD
TZOFFSETFROM:-0700
TZOFFSETTO:-0800
TZNAME:PST
DTSTART:20151101T090000
END:STANDARD
END:VTIMEZONE
BEGIN:VEVENT
DTSTART;TZID=America/Los_Angeles:20150601T123000
DTEND;TZID=America/Los_Angeles:20150601T133000
DTSTAMP:20260422T040021
CREATED:20150530T061514Z
LAST-MODIFIED:20150530T061523Z
UID:15811-1433161800-1433165400@wsg.washington.edu
SUMMARY:Seminar: Shoreline and nearshore response of the Elwha River Dam removal
DESCRIPTION:Ian Miller\, Washington Sea Grant’s coastal hazards specialist\, will be presenting a seminar for the Marine Geology and Geophysics seminar series. His talk is titled “Shoreline and nearshore response of the Elwha River Dam removal.” \n
URL:https://wsg.washington.edu/event/shoreline-and-nearshore-response-of-the-elwha-river-dam-removal/
LOCATION:Marine Sciences Building\, Rm 123\, UW Seattle Campus\, 1501 NE Boat Street\, Seattle\, WA\, 98195
CATEGORIES:Ian Miller,Outreach
GEO:47.6498689;-122.3128054
X-APPLE-STRUCTURED-LOCATION;VALUE=URI;X-ADDRESS=Marine Sciences Building Rm 123 UW Seattle Campus 1501 NE Boat Street Seattle WA 98195;X-APPLE-RADIUS=500;X-TITLE=1501 NE Boat Street:geo:-122.3128054,47.6498689
END:VEVENT
END:VCALENDAR