BEGIN:VCALENDAR
VERSION:2.0
PRODID:-//Washington Sea Grant - ECPv4.9.13//NONSGML v1.0//EN
CALSCALE:GREGORIAN
METHOD:PUBLISH
X-WR-CALNAME:Washington Sea Grant
X-ORIGINAL-URL:https://wsg.washington.edu
X-WR-CALDESC:Events for Washington Sea Grant
BEGIN:VTIMEZONE
TZID:America/Los_Angeles
BEGIN:DAYLIGHT
TZOFFSETFROM:-0800
TZOFFSETTO:-0700
TZNAME:PDT
DTSTART:20200308T100000
END:DAYLIGHT
BEGIN:STANDARD
TZOFFSETFROM:-0700
TZOFFSETTO:-0800
TZNAME:PST
DTSTART:20201101T090000
END:STANDARD
END:VTIMEZONE
BEGIN:VEVENT
DTSTART;TZID=America/Los_Angeles:20200425T130000
DTEND;TZID=America/Los_Angeles:20200425T160000
DTSTAMP:20260420T113806
CREATED:20200206T213430Z
LAST-MODIFIED:20200403T214506Z
UID:43210-1587819600-1587830400@wsg.washington.edu
SUMMARY:CANCELLED: Spring Migration Cruise
DESCRIPTION:Port Townsend Marine Science Center’s Bird Migration Cruises offer a unique opportunity for an idyllic natural science adventure\, enabling people to gain a better understanding of the relationships between the marine and shoreline ecosystems. \nJust outside of Port Townsend is an amazing National Wildlife Refuge — Protection Island — home to breeding\, nesting\, and flyway populations of marine bird species at different times of the year. Nearly 70 percent of the nesting seabird population of Puget Sound and the Straits nest on the island\, which includes one of the largest nesting colonies of rhinoceros auklets in the world and the largest nesting colony of glaucous-winged gulls in Washington. The island contains one of the last two nesting colonies of tufted puffins in the Puget Sound area. About 1\,000 harbor seals depend upon the island for a pupping and rest area\, and elephant seals often haul out to molt there during the summer. \nTo learn more and reserve your spot\, visit the event webpage.  \n  \nWhen: Saturday\, April 25\, 2020 at 1:00–4:00pm \nWhere: Puget Sound Express at Point Hudson Marina \n227 Jackson St \nPort Townsend\, WA 98368 \n
URL:https://wsg.washington.edu/event/spring-migration-cruise-2/
LOCATION:Puget Sound Express\, 227 Jackson St\, Port Townsend\, WA\, 98368\, United States
CATEGORIES:Local Activities,Marine Life,Ocean Learning,Our Northwest
END:VEVENT
END:VCALENDAR