BEGIN:VCALENDAR
VERSION:2.0
PRODID:-//Washington Sea Grant - ECPv4.9.13//NONSGML v1.0//EN
CALSCALE:GREGORIAN
METHOD:PUBLISH
X-WR-CALNAME:Washington Sea Grant
X-ORIGINAL-URL:https://wsg.washington.edu
X-WR-CALDESC:Events for Washington Sea Grant
BEGIN:VTIMEZONE
TZID:America/Los_Angeles
BEGIN:DAYLIGHT
TZOFFSETFROM:-0800
TZOFFSETTO:-0700
TZNAME:PDT
DTSTART:20200308T100000
END:DAYLIGHT
BEGIN:STANDARD
TZOFFSETFROM:-0700
TZOFFSETTO:-0800
TZNAME:PST
DTSTART:20201101T090000
END:STANDARD
END:VTIMEZONE
BEGIN:VEVENT
DTSTART;TZID=America/Los_Angeles:20200430T160000
DTEND;TZID=America/Los_Angeles:20200430T180000
DTSTAMP:20260424T211651
CREATED:20200402T172016Z
LAST-MODIFIED:20200402T172016Z
UID:44386-1588262400-1588269600@wsg.washington.edu
SUMMARY:Virtual Spring Seminar Series
DESCRIPTION:Zoom into the School of Aquatic and Fisheries Science’s Virtual Spring Seminar series every Thursday at 4pm. Stick around after the presentation for a virtual TGIT with the SAFS community. \nSee event details at the event webpage. \n
URL:https://wsg.washington.edu/event/virtual-spring-seminar-series-4/
LOCATION:Zoom\, WA\, United States
CATEGORIES:Education,Ocean Learning,Research
ORGANIZER;CN="UW%20School%20of%20Aquatic%20and%20Fishery%20Sciences":MAILTO:safsdesk@uw.edu
END:VEVENT
END:VCALENDAR