BEGIN:VCALENDAR
VERSION:2.0
PRODID:-//Washington Sea Grant - ECPv4.9.13//NONSGML v1.0//EN
CALSCALE:GREGORIAN
METHOD:PUBLISH
X-WR-CALNAME:Washington Sea Grant
X-ORIGINAL-URL:https://wsg.washington.edu
X-WR-CALDESC:Events for Washington Sea Grant
BEGIN:VTIMEZONE
TZID:America/Los_Angeles
BEGIN:DAYLIGHT
TZOFFSETFROM:-0800
TZOFFSETTO:-0700
TZNAME:PDT
DTSTART:20150308T100000
END:DAYLIGHT
BEGIN:STANDARD
TZOFFSETFROM:-0700
TZOFFSETTO:-0800
TZNAME:PST
DTSTART:20151101T090000
END:STANDARD
END:VTIMEZONE
BEGIN:VEVENT
DTSTART;VALUE=DATE:20150225
DTEND;VALUE=DATE:20150226
DTSTAMP:20260422T071207
CREATED:20150206T053208Z
LAST-MODIFIED:20150225T235857Z
UID:7485-1424822400-1424908799@wsg.washington.edu
SUMMARY:Wild Seafood Exchanges
DESCRIPTION:Washington Sea Grant is a sponsor of the annual Wild Seafood Exchange\, which is aimed at independent commercial fishermen who want to learn about marketing and direct marketing to restaurants\, retailers\, brokers\, and seafood buyers. Learn more and register at the Wild Seafood Exchange website. \n
URL:https://wsg.washington.edu/event/wild-seafood-exchanges/
LOCATION:Best Western Lakeway Inn\, 714 Lakeway Drive\, Bellingham\, WA\, 98229\, United States
CATEGORIES:Outreach
END:VEVENT
END:VCALENDAR