BEGIN:VCALENDAR
VERSION:2.0
PRODID:-//Washington Sea Grant - ECPv4.9.13//NONSGML v1.0//EN
CALSCALE:GREGORIAN
METHOD:PUBLISH
X-WR-CALNAME:Washington Sea Grant
X-ORIGINAL-URL:https://wsg.washington.edu
X-WR-CALDESC:Events for Washington Sea Grant
BEGIN:VTIMEZONE
TZID:America/Los_Angeles
BEGIN:DAYLIGHT
TZOFFSETFROM:-0800
TZOFFSETTO:-0700
TZNAME:PDT
DTSTART:20200308T100000
END:DAYLIGHT
BEGIN:STANDARD
TZOFFSETFROM:-0700
TZOFFSETTO:-0800
TZNAME:PST
DTSTART:20201101T090000
END:STANDARD
END:VTIMEZONE
BEGIN:VEVENT
DTSTART;TZID=America/Los_Angeles:20200608T173000
DTEND;TZID=America/Los_Angeles:20200608T183000
DTSTAMP:20260420T113955
CREATED:20200220T004735Z
LAST-MODIFIED:20200220T004735Z
UID:43656-1591637400-1591641000@wsg.washington.edu
SUMMARY:World Oceans Day Paddle Plog
DESCRIPTION:Honor World Oceans Day with a community cleanup event for Green Lake! We will paddle the perimeter of the lake and pick up trash. Gloves and bags will be provided. Plogging started in Sweden as a combination of jogging and picking up trash – a way to have a positive environmental impact while getting some exercise. Bring your own equipment\, or rent ours for the reduced rate of $12. \nThis event is organized by SUP Yoga Seattle. \nWhen: Monday\, June 8\, 2020 at 5:30–6:30pm \nWhere: Greenlake Boathouse\n7351 E Green Lake Drive N\nSeattle\, WA 98115 \n
URL:https://wsg.washington.edu/event/world-oceans-day-paddle-plog/
LOCATION:Greenlake Boathouse\, 7351 E Green Lake N\, Seattle\, WA\, 98115\, United States
CATEGORIES:Local Activities
ORGANIZER;CN="SUP%20Yoga%20Seattle":MAILTO:hello@supyogaseattle.com
END:VEVENT
END:VCALENDAR