BEGIN:VCALENDAR
VERSION:2.0
PRODID:-//Washington Sea Grant - ECPv4.9.13//NONSGML v1.0//EN
CALSCALE:GREGORIAN
METHOD:PUBLISH
X-WR-CALNAME:Washington Sea Grant
X-ORIGINAL-URL:https://wsg.washington.edu
X-WR-CALDESC:Events for Washington Sea Grant
BEGIN:VTIMEZONE
TZID:America/Los_Angeles
BEGIN:DAYLIGHT
TZOFFSETFROM:-0800
TZOFFSETTO:-0700
TZNAME:PDT
DTSTART:20200308T100000
END:DAYLIGHT
BEGIN:STANDARD
TZOFFSETFROM:-0700
TZOFFSETTO:-0800
TZNAME:PST
DTSTART:20201101T090000
END:STANDARD
END:VTIMEZONE
BEGIN:VEVENT
DTSTART;VALUE=DATE:20201003
DTEND;VALUE=DATE:20201012
DTSTAMP:20260424T195112
CREATED:20200716T153905Z
LAST-MODIFIED:20200915T132632Z
UID:46711-1601683200-1602460799@wsg.washington.edu
SUMMARY:Octopus Survey
DESCRIPTION:Calling all divers!  \nHelp the Seattle Aquarium collect data on a Puget Sound icon! If you go diving anytime during October 5-13\, take part in their 20th Annual Octopus Survey and let them know whether or not you see any giant Pacific octopuses. \nFor more details on how to participate\, check the event webpage here. \n
URL:https://wsg.washington.edu/event/seattle-aquarium-octopus-survey/
LOCATION:Various dive locations\, WA\, United States
CATEGORIES:Local Activities,Marine Life,Ocean Learning,Our Northwest
ORGANIZER;CN="Seattle%20Aquarium":MAILTO:contactus@seattleaquarium.org
END:VEVENT
BEGIN:VEVENT
DTSTART;VALUE=DATE:20201003
DTEND;VALUE=DATE:20201012
DTSTAMP:20260424T195112
CREATED:20200903T230602Z
LAST-MODIFIED:20200915T132533Z
UID:47366-1601683200-1602460799@wsg.washington.edu
SUMMARY:Empathy for Conservation Conference
DESCRIPTION:Seattle Aquarium invites researchers\, educators\, conservation advocates and zoo and aquarium professionals to join in a forward-looking exploration of how empathy can advance conservation outcomes. \nThis virtual\, participatory conference will focus on facilitating dialogue between researchers and practitioners interested in exploring the role of empathy in influencing attitudes\, behaviors and intentions toward conservation. Participant-contributors from academia as well as zoos and aquariums around the world will share knowledge of current and emerging research and imagine opportunities for collaboration to collectively advance our understanding of empathy as it relates to conservation. \nRegistration opens September 14\, 2020. \nLearn more at the event website. \n
URL:https://wsg.washington.edu/event/developing-empathy-for-conservation-conference/
LOCATION:Online
CATEGORIES:Education,Local Activities,Ocean Learning
END:VEVENT
BEGIN:VEVENT
DTSTART;VALUE=DATE:20201006
DTEND;VALUE=DATE:20201009
DTSTAMP:20260424T195112
CREATED:20200915T133505Z
LAST-MODIFIED:20200915T133505Z
UID:47646-1601942400-1602201599@wsg.washington.edu
SUMMARY:Shellfish Conference and Tradeshow
DESCRIPTION:The Pacific Coast Shellfish Growers Association and National Shellfisheries Association – Pacific Coast Section Shellfish Conference and Tradeshow is an opportunity for growers\, researchers\, agency staff\, industry partners and students to explore new research findings\, consider public policy issues facing the shellfish industry\, and to share stories and learn from each others’ experiences. \nWhile we will miss seeing you in person\, we are excited that this virtual meeting will offer new opportunities to expand participation and remove geographical barriers. \nCheck out the schedule and register here! \n
URL:https://wsg.washington.edu/event/shellfish-conference-and-tradeshow/
LOCATION:Online
CATEGORIES:Education,Ocean Learning,Our Northwest,Research,Shellfish,Shellfish,Training
ORGANIZER;CN="Pacific%20Coast%20Shellfish%20Growers%20Association":MAILTO:pcsga@pcsga.org
END:VEVENT
BEGIN:VEVENT
DTSTART;TZID=America/Los_Angeles:20201008T120000
DTEND;TZID=America/Los_Angeles:20201008T130000
DTSTAMP:20260424T195112
CREATED:20200716T170735Z
LAST-MODIFIED:20200716T170735Z
UID:46743-1602158400-1602162000@wsg.washington.edu
SUMMARY:Online: Who Was Chief Seattle?
DESCRIPTION:Join Humanities Washington for an online Speaker Bureau event entitled: Who Was Chief Seattle? \nChief Seattle wrote nothing down during his life\, yet his words—both real and imagined—are known throughout the world. The result is a man made up of both historical and fictional aspects\, from which conflicting messages can be gleaned. \nDavid M. Buerge\, a biographer and a historian to the Duwamish Tribe\, Seattle’s mother’s people\, spent more than 20 years exploring the man from a variety of sources to reveal a leader of epic character. He was a warrior\, an orator\, a benefactor\, and a visionary who helped found the city that bears his name\, Seattle\, the largest city in the world named after a Native American. \nRegister for the event here. \n
URL:https://wsg.washington.edu/event/online-who-was-chief-seattle/
LOCATION:ONLINE\, WA\, United States
CATEGORIES:Education,Local Activities,Our Northwest
ORGANIZER;CN="Humanities%20Washington":MAILTO:info@humanities.org
END:VEVENT
BEGIN:VEVENT
DTSTART;TZID=America/Los_Angeles:20201008T121000
DTEND;TZID=America/Los_Angeles:20201008T121000
DTSTAMP:20260424T195112
CREATED:20200221T215336Z
LAST-MODIFIED:20200521T004740Z
UID:43759-1602159000-1602159000@wsg.washington.edu
SUMMARY:Coastal Cafe Podcast
DESCRIPTION:Washington Sea Grant\, in partnership with KPTZ 91.9 FM in Port Townsend\, WA\, produces Coastal Cafe\, a science-based radio program focusing on regional marine science news. Coastal Cafe brings the latest in marine science information directly to coastal communities in Washington State. Hosts Aaron Barnett and MaryAnn Wagner explore science with researchers\, policy experts and people who live and work on the coast about issues impacting Washington State coastal communities and the natural environment. \n  \nTune in at 91.9 FM on Thursday\, Oct. 8 at 12:10pm and Thursday\, Oct. 22 at 5:35pm. \nYou can find the current program and all past shows in the KPTZ Archives. \n
URL:https://wsg.washington.edu/event/coastal-cafe-podcast-9/2020-10-08/
LOCATION:WA\, United States
CATEGORIES:Boating,Education,Ocean Learning,Our Northwest,Outreach
ORGANIZER;CN="KPTZ":MAILTO:contactus@kptz.org
END:VEVENT
BEGIN:VEVENT
DTSTART;TZID=America/Los_Angeles:20201008T163000
DTEND;TZID=America/Los_Angeles:20201008T173000
DTSTAMP:20260424T195112
CREATED:20200914T150723Z
LAST-MODIFIED:20200914T150723Z
UID:47600-1602174600-1602178200@wsg.washington.edu
SUMMARY:Speaker Series: Anticipating Future Environments
DESCRIPTION:The Huxley Speaker Series is hosted by Huxley College of the Environment at Western Washington University. \nOn October 8\, Shana Lee Hirsch\, Research Scientist at the department of Human Centered Design and Engineering at the University of Washington will present: Anticipating Future Environments: Climate Change\, Adaptive Restoration\, and the Columbia River Basin.  \nLearn more here!  \n
URL:https://wsg.washington.edu/event/speaker-series-anticipating-future-environments/
LOCATION:ONLINE\, WA\, United States
CATEGORIES:Education,Hazards and Resilience and Climate Change,Research
END:VEVENT
END:VCALENDAR