BEGIN:VCALENDAR
VERSION:2.0
PRODID:-//Washington Sea Grant - ECPv4.9.13//NONSGML v1.0//EN
CALSCALE:GREGORIAN
METHOD:PUBLISH
X-WR-CALNAME:Washington Sea Grant
X-ORIGINAL-URL:https://wsg.washington.edu
X-WR-CALDESC:Events for Washington Sea Grant
BEGIN:VTIMEZONE
TZID:America/Los_Angeles
BEGIN:DAYLIGHT
TZOFFSETFROM:-0800
TZOFFSETTO:-0700
TZNAME:PDT
DTSTART:20220313T100000
END:DAYLIGHT
BEGIN:STANDARD
TZOFFSETFROM:-0700
TZOFFSETTO:-0800
TZNAME:PST
DTSTART:20221106T090000
END:STANDARD
END:VTIMEZONE
BEGIN:VEVENT
DTSTART;TZID=America/Los_Angeles:20221202T100000
DTEND;TZID=America/Los_Angeles:20221202T120000
DTSTAMP:20260421T173851
CREATED:20221118T003243Z
LAST-MODIFIED:20221118T003544Z
UID:54799-1669975200-1669982400@wsg.washington.edu
SUMMARY:Learn how to get grants for your boating facility
DESCRIPTION:Need funding to build or improve recreational boating facilities or need help removing an old vessel from your marina? \nLearn how to access several state and federal grants that cover up to 75 percent of infrastructure and maintenance costs. The workshop will also discuss opportunities to leverage different grants to maximize funding. \nThe following programs will be covered: \n\nBoating Facilities Program Grants\nBoating Infrastructure Grants\nClean Vessel Act Pumpout Program Grants\nClean Marina Certification\nNo Discharge Zone Update\nVessel Turn-In program\n\nThis free\, online workshop will include an overview presentation of each program\, followed by an opportunity to break out into groups with the grant manager of your choice to ask more detailed questions. \nWhen\nDecember 2\, 2022\n10:00 a.m – Noon \nWho should attend\nPublic and private recreational boating facility operators. This workshop will be held on Zoom. Please email Bridget Trosin at bemmett@uw.edu to register. \n
URL:https://wsg.washington.edu/event/learn-how-to-get-grants-for-your-boating-facility/
LOCATION:WA\, United States
CATEGORIES:Apply for Funding,Funding
END:VEVENT
END:VCALENDAR