BEGIN:VCALENDAR
VERSION:2.0
PRODID:-//Washington Sea Grant - ECPv4.9.13//NONSGML v1.0//EN
CALSCALE:GREGORIAN
METHOD:PUBLISH
X-WR-CALNAME:Washington Sea Grant
X-ORIGINAL-URL:https://wsg.washington.edu
X-WR-CALDESC:Events for Washington Sea Grant
BEGIN:VTIMEZONE
TZID:America/Los_Angeles
BEGIN:DAYLIGHT
TZOFFSETFROM:-0800
TZOFFSETTO:-0700
TZNAME:PDT
DTSTART:20210314T100000
END:DAYLIGHT
BEGIN:STANDARD
TZOFFSETFROM:-0700
TZOFFSETTO:-0800
TZNAME:PST
DTSTART:20211107T090000
END:STANDARD
END:VTIMEZONE
BEGIN:VEVENT
DTSTART;TZID=America/Los_Angeles:20210327T090000
DTEND;TZID=America/Los_Angeles:20210327T160000
DTSTAMP:20260425T193637
CREATED:20210219T010547Z
LAST-MODIFIED:20210219T010857Z
UID:49266-1616835600-1616860800@wsg.washington.edu
SUMMARY:Marine Wiring Workshop in Port Hadlock
DESCRIPTION:Commercial fishermen and recreational boaters: learn to safely wire your boats  \nWashington Sea Grant\, WSU Jefferson County Extension and the Northwest School of Wooden Boatbuilding are co-sponsoring a marine wiring workshop for commercial fishermen and recreational boaters. \nThe Marine Wiring workshop is designed for boat owners who want to upgrade their vessels’ electrical systems. Topics covered include safe wiring practices\, selecting wire sizes\, circuit breaker and fuse ratings\, cable routing and labeling\, shore power circuits\, battery charging circuits\, corrosion protection circuits\, engine instrument systems and troubleshooting. \nWhen:\nSaturday\, March 27\, 2021\n9 a.m. to 4 p.m. \nWhere:\nNorthwest School of Wooden Boatbuilding\n42 Water St.\nPort Hadlock\, WA \nFee:\n$60 \nDue to limited space\, registration is required. \nRegister Online \nTo register over the phone or for more information\, contact: Sarah Fisken\, 206-543-1225\, sfisken@uw.edu \n
URL:https://wsg.washington.edu/event/marine-wiring-workshop-in-port-hadlock/
LOCATION:Northwest School of Wooden Boatbuilding\, 42 N. Water Street\, Hadlock\, WA\, United States
CATEGORIES:Sarah Fisken,Training
ORGANIZER;CN="Sarah%20Fisken":MAILTO:sfisken@uw.edu
GEO:48.0330525;-122.7519907
X-APPLE-STRUCTURED-LOCATION;VALUE=URI;X-ADDRESS=Northwest School of Wooden Boatbuilding 42 N. Water Street Hadlock WA United States;X-APPLE-RADIUS=500;X-TITLE=42 N. Water Street:geo:-122.7519907,48.0330525
END:VEVENT
END:VCALENDAR