BEGIN:VCALENDAR
VERSION:2.0
PRODID:-//Washington Sea Grant - ECPv4.9.13//NONSGML v1.0//EN
CALSCALE:GREGORIAN
METHOD:PUBLISH
X-WR-CALNAME:Washington Sea Grant
X-ORIGINAL-URL:https://wsg.washington.edu
X-WR-CALDESC:Events for Washington Sea Grant
BEGIN:VTIMEZONE
TZID:America/Los_Angeles
BEGIN:DAYLIGHT
TZOFFSETFROM:-0800
TZOFFSETTO:-0700
TZNAME:PDT
DTSTART:20220313T100000
END:DAYLIGHT
BEGIN:STANDARD
TZOFFSETFROM:-0700
TZOFFSETTO:-0800
TZNAME:PST
DTSTART:20221106T090000
END:STANDARD
END:VTIMEZONE
BEGIN:VEVENT
DTSTART;TZID=America/Los_Angeles:20220713T103000
DTEND;TZID=America/Los_Angeles:20220713T120000
DTSTAMP:20260426T042525
CREATED:20220517T203920Z
LAST-MODIFIED:20220517T203920Z
UID:53357-1657708200-1657713600@wsg.washington.edu
SUMMARY:Explore Your Local Beach: Lions Park
DESCRIPTION:Join local naturalists out on the beach to observe the unique creatures that call the intertidal zone home. You’ll learn about invertebrates\, tides\, shoreline geology\, birds\, and how to identify these things on the beach. \nThese 60-90 minute low tide beach explorations are suitable for all ages. Boots or close-toed shoes are recommended. \nWhen\nJuly 13 – 10:30 a.m. – 12:00 p.m. \nWhere\n251 Lebo Boulevard\, Bremerton\nMeet at northwest end of Lion’s Park\, near boat launch. \nFee\nFree \nThe Kitsap Beach Naturalist Program is a partnership with UW’s Washington Sea Grant and WWU’s SEA Discovery Center. \n
URL:https://wsg.washington.edu/event/explore-your-local-beach-lions-park/
LOCATION:Lions Park – Bremerton\, 251 Lebo Blvd\,\, Bremerton\, WA\, 98310\, United States
CATEGORIES:Education,Ocean Learning
END:VEVENT
END:VCALENDAR