BEGIN:VCALENDAR
VERSION:2.0
PRODID:-//Washington Sea Grant - ECPv4.9.13//NONSGML v1.0//EN
CALSCALE:GREGORIAN
METHOD:PUBLISH
X-WR-CALNAME:Washington Sea Grant
X-ORIGINAL-URL:https://wsg.washington.edu
X-WR-CALDESC:Events for Washington Sea Grant
BEGIN:VTIMEZONE
TZID:America/Los_Angeles
BEGIN:DAYLIGHT
TZOFFSETFROM:-0800
TZOFFSETTO:-0700
TZNAME:PDT
DTSTART:20170312T100000
END:DAYLIGHT
BEGIN:STANDARD
TZOFFSETFROM:-0700
TZOFFSETTO:-0800
TZNAME:PST
DTSTART:20171105T090000
END:STANDARD
END:VTIMEZONE
BEGIN:VEVENT
DTSTART;TZID=America/Los_Angeles:20170217T103000
DTEND;TZID=America/Los_Angeles:20170217T113000
DTSTAMP:20260425T200508
CREATED:20170209T190225Z
LAST-MODIFIED:20170209T190225Z
UID:27989-1487327400-1487331000@wsg.washington.edu
SUMMARY:Families with Children: Junior Ecologists (ages 6-9) Forage Fish
DESCRIPTION:Forage fish serve as a foundation for marine food webs. Learn about the importance of the small fries from the staff at the Padilla Bay National Estuarine Research Reserve. \n
URL:https://wsg.washington.edu/event/families-with-children-junior-ecologists-ages-6-9-forage-fish/2017-02-17/
LOCATION:Padilla Bay National Estuarine Research Reserve\, 10441 Bayview-Edison Rd\, Mt. Vernon\, WA\, 98273\, United States
CATEGORIES:Education,Fisheries and Seafood,Kid's Day,Marine Life,Our Northwest
GEO:48.4942876;-122.4808798
X-APPLE-STRUCTURED-LOCATION;VALUE=URI;X-ADDRESS=Padilla Bay National Estuarine Research Reserve 10441 Bayview-Edison Rd Mt. Vernon WA 98273 United States;X-APPLE-RADIUS=500;X-TITLE=10441 Bayview-Edison Rd:geo:-122.4808798,48.4942876
END:VEVENT
END:VCALENDAR