BEGIN:VCALENDAR
VERSION:2.0
PRODID:-//Washington Sea Grant - ECPv4.9.13//NONSGML v1.0//EN
CALSCALE:GREGORIAN
METHOD:PUBLISH
X-WR-CALNAME:Washington Sea Grant
X-ORIGINAL-URL:https://wsg.washington.edu
X-WR-CALDESC:Events for Washington Sea Grant
BEGIN:VTIMEZONE
TZID:America/Los_Angeles
BEGIN:DAYLIGHT
TZOFFSETFROM:-0800
TZOFFSETTO:-0700
TZNAME:PDT
DTSTART:20170312T100000
END:DAYLIGHT
BEGIN:STANDARD
TZOFFSETFROM:-0700
TZOFFSETTO:-0800
TZNAME:PST
DTSTART:20171105T090000
END:STANDARD
END:VTIMEZONE
BEGIN:VEVENT
DTSTART;TZID=America/Los_Angeles:20170311T103000
DTEND;TZID=America/Los_Angeles:20170311T113000
DTSTAMP:20260425T182927
CREATED:20170214T210222Z
LAST-MODIFIED:20170214T210222Z
UID:28121-1489228200-1489231800@wsg.washington.edu
SUMMARY:Wild Salmon Cook-out
DESCRIPTION:The Community Alliance for Global Justice is hosting an educational event about genetically engineered salmon to highlight Northwest tribal relationships to salmon. \nFree to the public. RSVP at fjp@cagj.org. \n
URL:https://wsg.washington.edu/event/wild-salmon-cook-out/
LOCATION:wǝɫǝbʔaltxʷ – Intellectual House\, 4249 Whitman Court\, Seattle\, WA\, 98195\, United States
CATEGORIES:Coastal and Marine Communities,Education,Fish and Fisheries,Fisheries and Seafood,Local Activities,Our Northwest,Outreach
ORGANIZER;CN="Community%20Alliance%20for%20Global%20Justice":MAILTO:contact_us@seattleglobaljustice.org
GEO:47.6582883;-122.3048189
X-APPLE-STRUCTURED-LOCATION;VALUE=URI;X-ADDRESS=wǝɫǝbʔaltxʷ – Intellectual House 4249 Whitman Court Seattle WA 98195 United States;X-APPLE-RADIUS=500;X-TITLE=4249 Whitman Court:geo:-122.3048189,47.6582883
END:VEVENT
END:VCALENDAR