BEGIN:VCALENDAR
VERSION:2.0
PRODID:-//Washington Sea Grant - ECPv4.9.13//NONSGML v1.0//EN
CALSCALE:GREGORIAN
METHOD:PUBLISH
X-WR-CALNAME:Washington Sea Grant
X-ORIGINAL-URL:https://wsg.washington.edu
X-WR-CALDESC:Events for Washington Sea Grant
BEGIN:VTIMEZONE
TZID:America/Los_Angeles
BEGIN:DAYLIGHT
TZOFFSETFROM:-0800
TZOFFSETTO:-0700
TZNAME:PDT
DTSTART:20180311T100000
END:DAYLIGHT
BEGIN:STANDARD
TZOFFSETFROM:-0700
TZOFFSETTO:-0800
TZNAME:PST
DTSTART:20181104T090000
END:STANDARD
END:VTIMEZONE
BEGIN:VEVENT
DTSTART;VALUE=DATE:20180921
DTEND;VALUE=DATE:20180923
DTSTAMP:20260424T152832
CREATED:20180613T192218Z
LAST-MODIFIED:20180618T190148Z
UID:34377-1537488000-1537660799@wsg.washington.edu
SUMMARY:SeaFeast 2018
DESCRIPTION:Bellingham SeaFeast 2018 promises you a setting of endless fun and the fabulous food fare of the surrounding bay and straits. A memorable gathering for family and friends. \nFREE ADMISSION. \n
URL:https://wsg.washington.edu/event/seafeast-2018/
LOCATION:Zuanich Point Park at Squalicum Harbor\, 2600 Harbor Loop \, Bellingham\, WA\, 98225\, United States
CATEGORIES:Aquaculture,Education,Fisheries,Fisheries and Seafood,Kid's Day,Safe Sustainable Seafood,Shellfish,Shellfish
GEO:48.754689;-122.499962
X-APPLE-STRUCTURED-LOCATION;VALUE=URI;X-ADDRESS=Zuanich Point Park at Squalicum Harbor 2600 Harbor Loop  Bellingham WA 98225 United States;X-APPLE-RADIUS=500;X-TITLE=2600 Harbor Loop:geo:-122.499962,48.754689
END:VEVENT
END:VCALENDAR