BEGIN:VCALENDAR
VERSION:2.0
PRODID:-//Washington Sea Grant - ECPv4.9.13//NONSGML v1.0//EN
CALSCALE:GREGORIAN
METHOD:PUBLISH
X-WR-CALNAME:Washington Sea Grant
X-ORIGINAL-URL:https://wsg.washington.edu
X-WR-CALDESC:Events for Washington Sea Grant
BEGIN:VTIMEZONE
TZID:America/Los_Angeles
BEGIN:DAYLIGHT
TZOFFSETFROM:-0800
TZOFFSETTO:-0700
TZNAME:PDT
DTSTART:20190310T100000
END:DAYLIGHT
BEGIN:STANDARD
TZOFFSETFROM:-0700
TZOFFSETTO:-0800
TZNAME:PST
DTSTART:20191103T090000
END:STANDARD
END:VTIMEZONE
BEGIN:VEVENT
DTSTART;TZID=America/Los_Angeles:20191121T100000
DTEND;TZID=America/Los_Angeles:20191123T140000
DTSTAMP:20260421T151247
CREATED:20191017T205730Z
LAST-MODIFIED:20191017T210001Z
UID:40926-1574330400-1574517600@wsg.washington.edu
SUMMARY:Pacific Marine Expo
DESCRIPTION:Pacific Marine Expo is the largest commercial marine trade show on the West Coast\, serving commercial mariners from Alaska to California. \nIf you make your living on the water\, you just can’t afford to miss it!\n\nMore than 500 exhibitors including equipment companies\, propulsion\, builders\, and suppliers and more\nEducation sessions on marine safety\, business management\, regulatory issues and technical advancements\, and more\nDaily events including live demonstrations\, the Fisherman of the Year Contest\, a taping of Seattle Kitchen\, a presentation by the Fisher Poets\, and an industry bookstore\n\n
URL:https://wsg.washington.edu/event/pacific-marine-expo-4/
LOCATION:CenturyLink Field Event Center USA 98134\, 800 Occidental Ave S\,  Seattle\, WA\, 98134\, United States
CATEGORIES:Fisheries and Seafood,Safe Sustainable Seafood
GEO:47.593307;-122.3321654
X-APPLE-STRUCTURED-LOCATION;VALUE=URI;X-ADDRESS=CenturyLink Field Event Center USA 98134 800 Occidental Ave S  Seattle WA 98134 United States;X-APPLE-RADIUS=500;X-TITLE=800 Occidental Ave S:geo:-122.3321654,47.593307
END:VEVENT
BEGIN:VEVENT
DTSTART;TZID=America/Los_Angeles:20191121T110000
DTEND;TZID=America/Los_Angeles:20191121T123000
DTSTAMP:20260421T151247
CREATED:20191120T220710Z
LAST-MODIFIED:20191120T220710Z
UID:41720-1574334000-1574339400@wsg.washington.edu
SUMMARY:NWFSC Monster Seminar JAM
DESCRIPTION:The Northwest Fisheries Science Center Monster Seminar JAM is a weekly seminar with presentations by Center scientists and guest speakers. It is also part of the OneNOAA Science Discussion Seminar Series\, a joint effort by several NOAA seminar partners to pool seminars of common interest to help share science and management information and to promote constructive dialogue between scientists\, educators\, and resource managers. \n  \nThis week\, Bill Matsubu of the National Research Council presents: Nearshore and Vertical Distribution of Salmon off the Coast of Washington. \n  \nFree and open to the public. \n  \nNorthwest Fisheries Science Center Auditorium \n2725 Montlake Blvd E \nSeattle\, WA 98112 \n
URL:https://wsg.washington.edu/event/nwfsc-monster-seminar-jam/
LOCATION:NOAA Northwest Fisheries Science Center Auditorium\, 2725 Montlake Blvd E\, Seattle\, WA\, 98112\, United States
CATEGORIES:Education,Fish and Fisheries,Fisheries and Seafood,Our Northwest,Research
ORGANIZER;CN="NWFSC%20Monster%20Seminar%20Jam%20-%20Vicky":MAILTO:vicky.krikelas@noaa.gov
GEO:47.6062095;-122.3320708
X-APPLE-STRUCTURED-LOCATION;VALUE=URI;X-ADDRESS=NOAA Northwest Fisheries Science Center Auditorium 2725 Montlake Blvd E Seattle WA 98112 United States;X-APPLE-RADIUS=500;X-TITLE=2725 Montlake Blvd E:geo:-122.3320708,47.6062095
END:VEVENT
END:VCALENDAR