BEGIN:VCALENDAR
VERSION:2.0
PRODID:-//Washington Sea Grant - ECPv4.9.13//NONSGML v1.0//EN
CALSCALE:GREGORIAN
METHOD:PUBLISH
X-WR-CALNAME:Washington Sea Grant
X-ORIGINAL-URL:https://wsg.washington.edu
X-WR-CALDESC:Events for Washington Sea Grant
BEGIN:VTIMEZONE
TZID:America/Los_Angeles
BEGIN:DAYLIGHT
TZOFFSETFROM:-0800
TZOFFSETTO:-0700
TZNAME:PDT
DTSTART:20240310T100000
END:DAYLIGHT
BEGIN:STANDARD
TZOFFSETFROM:-0700
TZOFFSETTO:-0800
TZNAME:PST
DTSTART:20241103T090000
END:STANDARD
END:VTIMEZONE
BEGIN:VEVENT
DTSTART;VALUE=DATE:20241005
DTEND;VALUE=DATE:20241007
DTSTAMP:20260421T165852
CREATED:20240807T173956Z
LAST-MODIFIED:20240807T175311Z
UID:59810-1728086400-1728259199@wsg.washington.edu
SUMMARY:Issaquah Salmon Days
DESCRIPTION:Celebrate the annual return of the salmon at the 55th annual Issaquah Salmon Days! \nJoin us at Salmon Days on October 5th and 6th 2024! There will be lots and lots of ARTS\, CRAFTS\,\nFOOD\, BBQ\, FISHES\, BEER\, WINE\, LOCAL ENTERTAINMENT\, & ACTIVITIES FOR THE KIDDOS.\nFor more information about the LARGEST 2-Day festival in the state visit: www.salmondays.org \nHere are some fun facts about the Salmon Days Festival and the fish we adore: \n\nIn 1970\, the Issaquah Chamber of Commerce presented the first Salmon Days festival.\nThe event grew out of the desire to replace the once-popular Labor Day celebration\,as well as\na need to celebrate one of Issaquah’s greatest treasures – the annual return of the salmon.\nIn the beginning\, the festival attractions included the Kiwanis Salmon BBQ\, salmon hatchery\ndisplays\, an art show\, children’s parade led by the late J.P. Patches\, Little League football\ngames at Veterans Memorial Field\, fire crew competitions\, and more.\nIn 1980 the Salmon Days festival and Grande Parade underwent two major changes that\nhave been credited with altering the course of the festival: Salmon Days became a\nSeafair-sanctioned event and a festival float was created again.\nTo aid the growth process\, merchandise was introduced\, the first paid festival director\nwas hired and large ohfishal spawnsors came on board in the ’80s\n​Today\, Salmon Days is still presented by the Greater Issaquah Chamber of Commerce\nwith the goal of providing a community celebration focused on honoring the\nmiraculous return of the salmon.\n\nLearn more here. \n
URL:https://wsg.washington.edu/event/issaquah-salmon-days/
LOCATION:155 NW Gilman Blvd\, 155 NW Gilman Blvd\, Issaquah\, WA\, 98027\, United States
CATEGORIES:Fisheries,Fisheries and Seafood,Our Northwest,Outreach
END:VEVENT
END:VCALENDAR