BEGIN:VCALENDAR
VERSION:2.0
PRODID:-//Washington Sea Grant - ECPv4.9.13//NONSGML v1.0//EN
CALSCALE:GREGORIAN
METHOD:PUBLISH
X-WR-CALNAME:Washington Sea Grant
X-ORIGINAL-URL:https://wsg.washington.edu
X-WR-CALDESC:Events for Washington Sea Grant
BEGIN:VTIMEZONE
TZID:America/Los_Angeles
BEGIN:DAYLIGHT
TZOFFSETFROM:-0800
TZOFFSETTO:-0700
TZNAME:PDT
DTSTART:20210314T100000
END:DAYLIGHT
BEGIN:STANDARD
TZOFFSETFROM:-0700
TZOFFSETTO:-0800
TZNAME:PST
DTSTART:20211107T090000
END:STANDARD
END:VTIMEZONE
BEGIN:VEVENT
DTSTART;TZID=America/Los_Angeles:20210513T160000
DTEND;TZID=America/Los_Angeles:20210513T170000
DTSTAMP:20260425T134308
CREATED:20210420T200546Z
LAST-MODIFIED:20210420T200638Z
UID:49961-1620921600-1620925200@wsg.washington.edu
SUMMARY:Yellow Rope on the Beach: a webinar for students grades 6-12
DESCRIPTION:\n\n\nFragments of yellow rope are washing ashore on beaches in Washington and Oregon. Where did these three-strand braided yellow polypropylene rope pieces come from\, and how can this type of marine debris be reduced? \nStudents\, join this webinar to find out how yellow rope is used\, ways the pieces escape into the marine environment\, and the steps oyster growers are taking to find a solution for this problem. There will be time at the end of the presentations to ask questions of the panelists. \nPresenters: \n* David Beugli – Director\, Willapa-Grays Harbor Oyster Growers Association\n* Miranda Ries – Director of Regulatory Affairs\, Aquaculture Division\, Pacific Seafood\n* Margaret Pilaro – Executive Director\, Pacific Coast Shellfish Growers Association \n\n\n\nREGISTER: https://tinyurl.com/YR-May13 \n\n\n\n\n\n\n
URL:https://wsg.washington.edu/event/yellow-rope-on-the-beach-a-webinar-for-students-grades-6-12/
LOCATION:Online
CATEGORIES:Aquaculture,Education,Environmental Threats,Local Activities,Shellfish,Shellfish,Teri King
ORGANIZER;CN="Teri%20King":MAILTO:guatemal@uw.edu
END:VEVENT
END:VCALENDAR