BEGIN:VCALENDAR
VERSION:2.0
PRODID:-//Washington Sea Grant - ECPv4.9.13//NONSGML v1.0//EN
CALSCALE:GREGORIAN
METHOD:PUBLISH
X-WR-CALNAME:Washington Sea Grant
X-ORIGINAL-URL:https://wsg.washington.edu
X-WR-CALDESC:Events for Washington Sea Grant
BEGIN:VTIMEZONE
TZID:America/Los_Angeles
BEGIN:DAYLIGHT
TZOFFSETFROM:-0800
TZOFFSETTO:-0700
TZNAME:PDT
DTSTART:20220313T100000
END:DAYLIGHT
BEGIN:STANDARD
TZOFFSETFROM:-0700
TZOFFSETTO:-0800
TZNAME:PST
DTSTART:20221106T090000
END:STANDARD
END:VTIMEZONE
BEGIN:VEVENT
DTSTART;TZID=America/Los_Angeles:20220706T130000
DTEND;TZID=America/Los_Angeles:20220706T140000
DTSTAMP:20260424T161714
CREATED:20220624T201419Z
LAST-MODIFIED:20220624T201419Z
UID:53752-1657112400-1657116000@wsg.washington.edu
SUMMARY:Adapting to Environmental Change: Strategies for West Coast Shellfish Aquaculture
DESCRIPTION:Please join Drs. Melissa Ward\, University of Oxford\, and Kristin Green\, Oregon State University\, for this informative webinar regarding their research on shellfish aquaculture producers in California and Oregon. Teri King\, Washington Sea Grant will be hosting the webinar. \nRegister in advance for this meeting here.  \nCoastal communities along the U.S. West Coast experience a myriad of environmental stressors\, including exposure to low pH waters exacerbated by ocean acidification (OA). This can result in ecological and social consequences\, making necessary the exploration and support for locally relevant strategies to adapt to OA and other environmental changes. The shellfish aquaculture industry along the West Coast is particularly vulnerable to OA\, given the negative effects of low pH on shellfish survival and growth. \nAs such\, the social-ecological system exemplified by this industry serves as an opportunity to identify and address strategies for local adaptation. Through interviews conducted with West Coast shellfish farm owners and managers (‘growers’)\, we investigate perceptions of OA and environmental change and identify specific strategies for adaptation. We also identify non-environmental stressors\, including economic\, social\, and political factors. We find that growers are concerned about OA\, among many other stressors such as marine pathogens\, water temperature\, maintaining a labor force\, and permitting and regulations. From these interviews\, we identify a list of adaptive strategies growers employ or would like to employ to improve their overall adaptive capacity to multiple stressors\, which together\, allow farms to weather periods of OA-induced stress more effectively. This work fills a gap in the literature on adaptive capacity by amplifying the voices of those on the front lines of climate change and identifying explicit pathways for adaptation. \n
URL:https://wsg.washington.edu/event/adapting-to-environmental-change-strategies-for-west-coast-shellfish-aquaculture/
LOCATION:WA\, United States
CATEGORIES:Hazards and Resilience and Climate Change,Shellfish
END:VEVENT
END:VCALENDAR