BEGIN:VCALENDAR
VERSION:2.0
PRODID:-//Washington Sea Grant - ECPv4.9.13//NONSGML v1.0//EN
CALSCALE:GREGORIAN
METHOD:PUBLISH
X-WR-CALNAME:Washington Sea Grant
X-ORIGINAL-URL:https://wsg.washington.edu
X-WR-CALDESC:Events for Washington Sea Grant
BEGIN:VTIMEZONE
TZID:America/Los_Angeles
BEGIN:DAYLIGHT
TZOFFSETFROM:-0800
TZOFFSETTO:-0700
TZNAME:PDT
DTSTART:20170312T100000
END:DAYLIGHT
BEGIN:STANDARD
TZOFFSETFROM:-0700
TZOFFSETTO:-0800
TZNAME:PST
DTSTART:20171105T090000
END:STANDARD
END:VTIMEZONE
BEGIN:VEVENT
DTSTART;TZID=America/Los_Angeles:20171104T100000
DTEND;TZID=America/Los_Angeles:20171104T140000
DTSTAMP:20260425T180544
CREATED:20170927T231539Z
LAST-MODIFIED:20171025T200940Z
UID:30991-1509789600-1509804000@wsg.washington.edu
SUMMARY:Kitsap Salmon Tours
DESCRIPTION:Celebrate the return of salmon to Kitsap Stream! There will be tours at several streams around the peninsula. For more information and to schedule group tours\, visit www.kitsapsalmontours.org. The event is organized by Washington State University Extension. \nProgram Contact: Renee Johnson\, Water Stewardship Program Coordinator\n(360) 337-7157 x7224 • rkjohnso@co.kitsap.wa.us \nBrought to you by City of Bremerton\, Chico Salmon Park Stewardship Group\, Clean Water Kitsap\, Great Peninsula Conservancy\, Kitsap County\, Kitsap Poggie Club\, Mountaineers Foundation\, City of Poulsbo\, Suquamish Tribe\, Washington Sea Grant\, WSU Extension \nTours meet at Chico Salmon Park\, Clear Creek Sa’Qad Interpretive Center\, Cowling Creek and other locations (see attached flyer). \n7064-Salmon Tour Rack \n
URL:https://wsg.washington.edu/event/kitsap-salmon-tours/
LOCATION:Chico Salmon Park\, 3121 Chico Way NW\, Bremerton\, WA\, 98312\, United States
CATEGORIES:Education,Outreach
GEO:47.5920201;-122.7101147
X-APPLE-STRUCTURED-LOCATION;VALUE=URI;X-ADDRESS=Chico Salmon Park 3121 Chico Way NW Bremerton WA 98312 United States;X-APPLE-RADIUS=500;X-TITLE=3121 Chico Way NW:geo:-122.7101147,47.5920201
END:VEVENT
BEGIN:VEVENT
DTSTART;TZID=America/Los_Angeles:20171104T120000
DTEND;TZID=America/Los_Angeles:20171104T150000
DTSTAMP:20260425T180544
CREATED:20171006T202739Z
LAST-MODIFIED:20171006T202739Z
UID:31074-1509796800-1509807600@wsg.washington.edu
SUMMARY:Salmon Sightings
DESCRIPTION:Join SFEG in partership with NSEA and Taylor Shellfish Farms to view the chum of Oyster Creek. Learn about habitat restoration being done in watersheds of Whatcom and Skagit Counties\, and efforts to improve water quality in the Samish Bay for animals and humans alike. Enter from Chuckanut Drive via the entrance to Taylor Shellfish Farm. See video from last year’s event here: https://www.facebook.com/pg/skagitfish/videos/?ref=page_internal (look for “Oyster Creek Chum” from November 7\, 2016) \n
URL:https://wsg.washington.edu/event/salmon-sightings/
LOCATION:Oyster Creek\, Blanchard\, United States
CATEGORIES:Education,Outreach
GEO:37.09024;-95.712891
END:VEVENT
BEGIN:VEVENT
DTSTART;TZID=America/Los_Angeles:20171104T130000
DTEND;TZID=America/Los_Angeles:20171104T140000
DTSTAMP:20260425T180544
CREATED:20171006T202043Z
LAST-MODIFIED:20171006T202043Z
UID:31071-1509800400-1509804000@wsg.washington.edu
SUMMARY:Blackmouth Salmon Seminar
DESCRIPTION:Stop on by to see local fisherman Tom Grice discuss technique and gear to use while Blackmouth Salmon Fishing. \n
URL:https://wsg.washington.edu/event/blackmouth-salmon-seminar/
LOCATION:Sportsman’s Warehouse (Silverdale\, WA)\, 9577 Ridgetop Blvd NW\, Silverdale\, WA\, 98383\, United States
CATEGORIES:Education,Outreach
GEO:47.657062;-122.6783196
X-APPLE-STRUCTURED-LOCATION;VALUE=URI;X-ADDRESS=Sportsman’s Warehouse (Silverdale WA) 9577 Ridgetop Blvd NW Silverdale WA 98383 United States;X-APPLE-RADIUS=500;X-TITLE=9577 Ridgetop Blvd NW:geo:-122.6783196,47.657062
END:VEVENT
END:VCALENDAR