BEGIN:VCALENDAR
VERSION:2.0
PRODID:-//Washington Sea Grant - ECPv4.9.13//NONSGML v1.0//EN
CALSCALE:GREGORIAN
METHOD:PUBLISH
X-WR-CALNAME:Washington Sea Grant
X-ORIGINAL-URL:https://wsg.washington.edu
X-WR-CALDESC:Events for Washington Sea Grant
BEGIN:VTIMEZONE
TZID:America/Los_Angeles
BEGIN:DAYLIGHT
TZOFFSETFROM:-0800
TZOFFSETTO:-0700
TZNAME:PDT
DTSTART:20250309T100000
END:DAYLIGHT
BEGIN:STANDARD
TZOFFSETFROM:-0700
TZOFFSETTO:-0800
TZNAME:PST
DTSTART:20251102T090000
END:STANDARD
END:VTIMEZONE
BEGIN:VEVENT
DTSTART;VALUE=DATE:20251120
DTEND;VALUE=DATE:20251123
DTSTAMP:20260425T032723
CREATED:20250722T234806Z
LAST-MODIFIED:20250722T234806Z
UID:62988-1763596800-1763855999@wsg.washington.edu
SUMMARY:Pacific Marine Expo
DESCRIPTION:From the website: \nIf you make your living on the water\, you just can’t afford to miss it! \nCatch Up with Old and New Friends at Pacific Marine Expo!\nPacific Marine Expo has been held in Seattle for more than 50 years. It’s the one place to check out the latest products\, technologies\, and services\, learn best practices\, and catch up with old and new friends. \nPacific Marine Expo has something for everyone within the industry: whether you’re a deckhand seeking to expand your network and advance your career\, a business owner in search of the latest equipment\, or a fisherman eager to stay updated on new regulations and solutions\, there’s something here for everyone. \nPacific Marine Expo offers more than just exhibitors\, we’re proud to offer special events\, education and features: \n– Free Expo Education Program\n– Alaska Hall\n– The King County Maritime Economic Breakfast\n– The National Fisherman Highliner Ceremony\n– Coastal Challenge\, formerly known as the Fisherman of the Year Contest\n– & More! \nPacific Marine Expo is not just for fishermen from California to Alaska. Every year\, fishermen from around the United States and Canada attend to discover what’s coming next\, and many show specials they can’t leave without experiencing. \nDiscover Waves of Innovation With Your Community\, Only at Pacific Marine Expo. \nLearn more on the Pacific Marine Expo website. \n
URL:https://wsg.washington.edu/event/pacific-marine-expo-7/
LOCATION:Lumen Field Event Center\, 800 Occidental Ave S\, Seattle\, WA 98134\, Seattle\, WA\, United States
CATEGORIES:Boating,Fisheries,Outreach
END:VEVENT
END:VCALENDAR