BEGIN:VCALENDAR
VERSION:2.0
PRODID:-//Washington Sea Grant - ECPv4.9.13//NONSGML v1.0//EN
CALSCALE:GREGORIAN
METHOD:PUBLISH
X-WR-CALNAME:Washington Sea Grant
X-ORIGINAL-URL:https://wsg.washington.edu
X-WR-CALDESC:Events for Washington Sea Grant
BEGIN:VTIMEZONE
TZID:America/Los_Angeles
BEGIN:DAYLIGHT
TZOFFSETFROM:-0800
TZOFFSETTO:-0700
TZNAME:PDT
DTSTART:20150308T100000
END:DAYLIGHT
BEGIN:STANDARD
TZOFFSETFROM:-0700
TZOFFSETTO:-0800
TZNAME:PST
DTSTART:20151101T090000
END:STANDARD
END:VTIMEZONE
BEGIN:VEVENT
DTSTART;TZID=America/Los_Angeles:20150608T160000
DTEND;TZID=America/Los_Angeles:20150608T180000
DTSTAMP:20260424T085229
CREATED:20150609T012403Z
LAST-MODIFIED:20150609T012403Z
UID:15938-1433779200-1433786400@wsg.washington.edu
SUMMARY:World Oceans Day: Reddit AMA
DESCRIPTION:To commemorate World Oceans Day (today! June 8)\, and bring the ocean to a new community\, OnlineOceanSymposium.org is taking over reddit\, the self described “Front Page of the Internet.” Through a series of AMAs (Ask Me Anything)\, reddit community members will ask the AMA participants—who range from deep-sea explorers to plastic waste experts to Washington Sea Grant’s own ocean acidification specialist Meg Chadsey from 4-6pm PST—any ocean-related question that comes to mind. \n
URL:https://wsg.washington.edu/event/world-oceans-day-reddit-ama/
LOCATION:Online
CATEGORIES:Meg Chadsey,Ocean Acidification,Outreach
END:VEVENT
END:VCALENDAR